BEGIN:VCALENDAR
VERSION:2.0
PRODID:Frederick County Calendar Creator
METHOD:PUBLISH
BEGIN:VEVENT
DTSTAMP:20210820T153955
DTSTART:20210823T130000
DTEND:20210823T150000
SUMMARY:Community Policy and Management Team Meeting
DESCRIPTION:
X-ALT-DESC;FMTTYPE=text/html:
LOCATION:County Administration Building\, 107 N. Kent Street Winchester\, Virginia 22601
CLASS:PUBLIC
END:VEVENT
END:VCALENDAR
