BEGIN:VCALENDAR
VERSION:2.0
PRODID:Frederick County Calendar Creator
METHOD:PUBLISH
BEGIN:VEVENT
DTSTAMP:20210522T135719
DTSTART:20210524T130000
DTEND:20210524T150000
SUMMARY:Community Policy and Management Team Meeting
DESCRIPTION:<p>Microsoft Teams meeting</p><p><b>Join on your computer or mobile app</b></p><p><a href="https://teams.microsoft.com/l/meetup-join/19%3ac7901d4e96fc47f5b037b01b4af6cfc8%40thread.tacv2/1621624325301?context=%7b%22Tid%22%3a%220201b765-070d-4db0-8422-6cfc27f09889%22%2c%22Oid%22%3a%2242b6db39-e772-4dc2-99ca-0698725ebae1%22%7d" target="_blank" title="https://teams.microsoft.com/l/meetup-join/19%3ac7901d4e96fc47f5b037b01b4af6cfc8%40thread.tacv2/1621624325301?context=%7b%22tid%22%3a%220201b765-070d-4db0-8422-6cfc27f09889%22%2c%22oid%22%3a%2242b6db39-e772-4dc2-99ca-0698725ebae1%22%7d">Click here to join the meeting</a></p><p>&nbsp;</p><p><b>Join with a video conferencing device</b></p><p><a href="" target="_blank">fcva@m.webex.com</a></p><p>Video Conference ID: 112 203 012 0 </p><p><a href="https://www.webex.com/msteams?confid=1122030120&amp;tenantkey=fcva&amp;domain=m.webex.com" target="_blank" title="https://www.webex.com/msteams?confid=1122030120&amp;tenantkey=fcva&amp;domain=m.webex.com">Alternate VTC dialing instructions</a></p><p><b>&nbsp;</b></p><p><b>Or call in (audio only)</b></p><p><a href="tel:+12762213203,,174370316#" target="_blank" title="tel:+12762213203,,174370316# ">+1 276-221-3203,,174370316#</a> &nbsp; United States, Danville </p><p>Phone Conference ID: 174 370 316#</p>
X-ALT-DESC;FMTTYPE=text/html:<p>Microsoft Teams meeting</p><p><b>Join on your computer or mobile app</b></p><p><a href="https://teams.microsoft.com/l/meetup-join/19%3ac7901d4e96fc47f5b037b01b4af6cfc8%40thread.tacv2/1621624325301?context=%7b%22Tid%22%3a%220201b765-070d-4db0-8422-6cfc27f09889%22%2c%22Oid%22%3a%2242b6db39-e772-4dc2-99ca-0698725ebae1%22%7d" target="_blank" title="https://teams.microsoft.com/l/meetup-join/19%3ac7901d4e96fc47f5b037b01b4af6cfc8%40thread.tacv2/1621624325301?context=%7b%22tid%22%3a%220201b765-070d-4db0-8422-6cfc27f09889%22%2c%22oid%22%3a%2242b6db39-e772-4dc2-99ca-0698725ebae1%22%7d">Click here to join the meeting</a></p><p>&nbsp;</p><p><b>Join with a video conferencing device</b></p><p><a href="" target="_blank">fcva@m.webex.com</a></p><p>Video Conference ID: 112 203 012 0 </p><p><a href="https://www.webex.com/msteams?confid=1122030120&amp;tenantkey=fcva&amp;domain=m.webex.com" target="_blank" title="https://www.webex.com/msteams?confid=1122030120&amp;tenantkey=fcva&amp;domain=m.webex.com">Alternate VTC dialing instructions</a></p><p><b>&nbsp;</b></p><p><b>Or call in (audio only)</b></p><p><a href="tel:+12762213203,,174370316#" target="_blank" title="tel:+12762213203,,174370316# ">+1 276-221-3203,,174370316#</a> &nbsp; United States, Danville </p><p>Phone Conference ID: 174 370 316#</p>
LOCATION:
CLASS:PUBLIC
END:VEVENT
END:VCALENDAR
