BEGIN:VCALENDAR
VERSION:2.0
PRODID:Frederick County Calendar Creator
METHOD:PUBLISH
BEGIN:VEVENT
DTSTAMP:20210423T151812
DTSTART:20210426T130000
DTEND:20210426T150000
SUMMARY:Community Policy and Management Team Meeting
DESCRIPTION:<p>Microsoft Teams meeting</p><p><b>Join on your computer or mobile app</b><b> </b></p><p><a href="https://teams.microsoft.com/l/meetup-join/19%3ameeting_Njk5ZTUwNTQtNjM3Zi00YTU0LWIwZTItZGUwOWRiYTE0ZDQ3%40thread.v2/0?context=%7b%22Tid%22%3a%220201b765-070d-4db0-8422-6cfc27f09889%22%2c%22Oid%22%3a%2242b6db39-e772-4dc2-99ca-0698725ebae1%22%7d" target="_blank">Click here to join the meeting</a></p><p><b>&nbsp;</b></p><p><b>Or call in (audio only)</b> </p><p><a href="tel:+12762213203,,241385505#">+1 276-221-3203,,241385505#</a> &nbsp; United States, Danville </p><p>Phone Conference ID: 241 385 505# </p>
X-ALT-DESC;FMTTYPE=text/html:<p>Microsoft Teams meeting</p><p><b>Join on your computer or mobile app</b><b> </b></p><p><a href="https://teams.microsoft.com/l/meetup-join/19%3ameeting_Njk5ZTUwNTQtNjM3Zi00YTU0LWIwZTItZGUwOWRiYTE0ZDQ3%40thread.v2/0?context=%7b%22Tid%22%3a%220201b765-070d-4db0-8422-6cfc27f09889%22%2c%22Oid%22%3a%2242b6db39-e772-4dc2-99ca-0698725ebae1%22%7d" target="_blank">Click here to join the meeting</a></p><p><b>&nbsp;</b></p><p><b>Or call in (audio only)</b> </p><p><a href="tel:+12762213203,,241385505#">+1 276-221-3203,,241385505#</a> &nbsp; United States, Danville </p><p>Phone Conference ID: 241 385 505# </p>
LOCATION:
CLASS:PUBLIC
END:VEVENT
END:VCALENDAR
