BEGIN:VCALENDAR
VERSION:2.0
PRODID:Frederick County Calendar Creator
METHOD:PUBLISH
BEGIN:VEVENT
DTSTAMP:20210124T224006
DTSTART:20210125T130000
DTEND:20210125T150000
SUMMARY:Community Policy and Management Team Meeting
DESCRIPTION:<div>Microsoft Teams meeting </div><div><div>Join on your computer or mobile app </div><a href="https://teams.microsoft.com/l/meetup-join/19%3a03231260b66b4ccfb14151ca07ab5f2c%40thread.tacv2/1611538910951?context=%7b%22Tid%22%3a%220201b765-070d-4db0-8422-6cfc27f09889%22%2c%22Oid%22%3a%2242b6db39-e772-4dc2-99ca-0698725ebae1%22%7d" target="_blank" rel="noreferrer noopener">Click here to join the meeting</a> </div><div><a target="_blank" href="https://aka.ms/JoinTeamsMeeting" rel="noreferrer noopener">Learn More</a> | <a target="_blank" href="https://teams.microsoft.com/meetingOptions/?organizerId=42b6db39-e772-4dc2-99ca-0698725ebae1&amp;tenantId=0201b765-070d-4db0-8422-6cfc27f09889&amp;threadId=19_03231260b66b4ccfb14151ca07ab5f2c@thread.tacv2&amp;messageId=1611538910951&amp;language=en-US" rel="noreferrer noopener">Meeting options</a></div>
X-ALT-DESC;FMTTYPE=text/html:<div>Microsoft Teams meeting </div><div><div>Join on your computer or mobile app </div><a href="https://teams.microsoft.com/l/meetup-join/19%3a03231260b66b4ccfb14151ca07ab5f2c%40thread.tacv2/1611538910951?context=%7b%22Tid%22%3a%220201b765-070d-4db0-8422-6cfc27f09889%22%2c%22Oid%22%3a%2242b6db39-e772-4dc2-99ca-0698725ebae1%22%7d" target="_blank" rel="noreferrer noopener">Click here to join the meeting</a> </div><div><a target="_blank" href="https://aka.ms/JoinTeamsMeeting" rel="noreferrer noopener">Learn More</a> | <a target="_blank" href="https://teams.microsoft.com/meetingOptions/?organizerId=42b6db39-e772-4dc2-99ca-0698725ebae1&amp;tenantId=0201b765-070d-4db0-8422-6cfc27f09889&amp;threadId=19_03231260b66b4ccfb14151ca07ab5f2c@thread.tacv2&amp;messageId=1611538910951&amp;language=en-US" rel="noreferrer noopener">Meeting options</a></div>
LOCATION:Video Conference\, 
CLASS:PUBLIC
END:VEVENT
END:VCALENDAR
