BEGIN:VCALENDAR
VERSION:2.0
PRODID:Frederick County Calendar Creator
METHOD:PUBLISH
BEGIN:VEVENT
DTSTAMP:20200821T170221
DTSTART:20200824T130000
DTEND:20200824T140000
SUMMARY:Community Policy and Management Team Meeting
DESCRIPTION:<p> </p><br>
X-ALT-DESC;FMTTYPE=text/html:<p> </p><br>
LOCATION:
CLASS:PUBLIC
END:VEVENT
END:VCALENDAR
